BEGIN:VCALENDAR
PRODID:-//eluceo/ical//2.0/EN
VERSION:2.0
CALSCALE:GREGORIAN
BEGIN:VEVENT
UID:e0fab5ec8c9168f8d571de8c0052bbc2
DTSTAMP:20260420T160223Z
SUMMARY:Stiftung RoadCross - Erwachsenenprävention Verkehrssicherheit
DESCRIPTION:Web stranica: https://www.zoo.ch/de/restaurant-shop/restaurant-
 altes-klösterli\nGovornik(ci): Die Geschäftsführerin von RoadCross Schw
 eiz\, Stéphanie Anne Kebeiks\, wird uns äusserst spannende Einblicke zu 
 einem für alle wichtigen Thema geben. 
URL:https://rc-zuerich-zoo.ch/bs/agenda/show/146456
DTSTART;TZID=Europe/Zurich:20220913T193000
DTEND;TZID=Europe/Zurich:20220913T213000
LOCATION:Restaurant Altes Klösterli (nur Präsenz)\, Klosterweg 36\, 8044 
 Zürich\, Schweiz
CATEGORIES:Rotary
END:VEVENT
BEGIN:VTIMEZONE
TZID:Europe/Zurich
BEGIN:DAYLIGHT
DTSTART:20220913T193000
TZNAME:CEST
TZOFFSETTO:+0200
TZOFFSETFROM:+0200
END:DAYLIGHT
END:VTIMEZONE
END:VCALENDAR
