BEGIN:VCALENDAR
PRODID:-//eluceo/ical//2.0/EN
VERSION:2.0
CALSCALE:GREGORIAN
BEGIN:VEVENT
UID:54bf757d8f0fa4dcde2e06fdce79f7ba
DTSTAMP:20260423T092706Z
SUMMARY:7Summits
DESCRIPTION:Govornik(ci): Philipp Schlatter
URL:https://rc-zuerich-zoo.ch/bs/agenda/show/29251
DTSTART;TZID=Europe/Zurich:20130507T193000
DTEND;TZID=Europe/Zurich:20130507T193000
LOCATION:Restaurant Altes Klösterli 
CATEGORIES:Rotary
END:VEVENT
BEGIN:VTIMEZONE
TZID:Europe/Zurich
BEGIN:DAYLIGHT
DTSTART:20130507T193000
TZNAME:CEST
TZOFFSETTO:+0200
TZOFFSETFROM:+0200
END:DAYLIGHT
END:VTIMEZONE
END:VCALENDAR
