BEGIN:VCALENDAR
PRODID:-//eluceo/ical//2.0/EN
VERSION:2.0
CALSCALE:GREGORIAN
BEGIN:VEVENT
UID:00fcdda0ab8f298bc60d72b03db0e3ae
DTSTAMP:20260422T115256Z
SUMMARY:Andreas Meier: Edelweiss Backstage – Was Sie über’s Fliegen no
 ch nicht gewusst haben
DESCRIPTION:
URL:https://rc-zuerich-zoo.ch/de/agenda/show/131650
DTSTART;TZID=Europe/Zurich:20220111T193000
DTEND;TZID=Europe/Zurich:20220111T210000
LOCATION:Online - Zoom\, please ask club secretary for link\, Schweiz
CATEGORIES:Rotary
END:VEVENT
BEGIN:VTIMEZONE
TZID:Europe/Zurich
BEGIN:STANDARD
DTSTART:20220111T193000
TZNAME:CET
TZOFFSETTO:+0100
TZOFFSETFROM:+0100
END:STANDARD
END:VTIMEZONE
END:VCALENDAR
