BEGIN:VCALENDAR
PRODID:-//eluceo/ical//2.0/EN
VERSION:2.0
CALSCALE:GREGORIAN
BEGIN:VEVENT
UID:674b64e86df46a1f446abdba05f7ad82
DTSTAMP:20260422T131946Z
SUMMARY:kein Meeting (Ferienpause)
DESCRIPTION:
URL:https://rc-zuerich-zoo.ch/de/agenda/show/131677
DTSTART;TZID=Europe/Zurich:20220104T193000
DTEND;TZID=Europe/Zurich:20220104T210000
LOCATION:kein Meeting
CATEGORIES:Rotary
END:VEVENT
BEGIN:VTIMEZONE
TZID:Europe/Zurich
BEGIN:STANDARD
DTSTART:20220104T193000
TZNAME:CET
TZOFFSETTO:+0100
TZOFFSETFROM:+0100
END:STANDARD
END:VTIMEZONE
END:VCALENDAR
