BEGIN:VCALENDAR
PRODID:-//eluceo/ical//2.0/EN
VERSION:2.0
CALSCALE:GREGORIAN
BEGIN:VEVENT
UID:db0dc735f37ed01b695f653dec8050cc
DTSTAMP:20260424T135105Z
SUMMARY:Cyrill Gyger: Wie Radar und künstliche Intelligenz Stürze im Spit
 al verhindern
DESCRIPTION:Webseite: https://www.zoo.ch/de/restaurant-shop/restaurant-alte
 s-klösterli
URL:https://rc-zuerich-zoo.ch/de/agenda/show/137393
DTSTART;TZID=Europe/Zurich:20220308T193000
DTEND;TZID=Europe/Zurich:20220308T213000
LOCATION:Restaurant Altes Klösterli + Online (hybrid)\, Klosterweg 36\, 80
 44 Zürich\, Schweiz
CATEGORIES:Rotary
END:VEVENT
BEGIN:VTIMEZONE
TZID:Europe/Zurich
BEGIN:STANDARD
DTSTART:20220308T193000
TZNAME:CET
TZOFFSETTO:+0100
TZOFFSETFROM:+0100
END:STANDARD
END:VTIMEZONE
END:VCALENDAR
