BEGIN:VCALENDAR
PRODID:-//eluceo/ical//2.0/EN
VERSION:2.0
CALSCALE:GREGORIAN
BEGIN:VEVENT
UID:04619e0ec9ddb49cd7ebf49df3f5445b
DTSTAMP:20260424T115612Z
SUMMARY:Romeo Bütler: Verve Ventures
DESCRIPTION:Webseite: https://www.zoo.ch/de/restaurant-shop/restaurant-alte
 s-klösterli
URL:https://rc-zuerich-zoo.ch/de/agenda/show/137395
DTSTART;TZID=Europe/Zurich:20220315T193000
DTEND;TZID=Europe/Zurich:20220315T213000
LOCATION:Restaurant Altes Klösterli + Online (hybrid)\, Klosterweg 36\, 80
 44 Zürich\, Schweiz
CATEGORIES:Rotary
END:VEVENT
BEGIN:VTIMEZONE
TZID:Europe/Zurich
BEGIN:STANDARD
DTSTART:20220315T193000
TZNAME:CET
TZOFFSETTO:+0100
TZOFFSETFROM:+0100
END:STANDARD
END:VTIMEZONE
END:VCALENDAR
