BEGIN:VCALENDAR
PRODID:-//eluceo/ical//2.0/EN
VERSION:2.0
CALSCALE:GREGORIAN
BEGIN:VEVENT
UID:39384aa20f85c2aa33d561c9d1ec5797
DTSTAMP:20260420T101751Z
SUMMARY:Dinner mit RC Luxembourg Vallée
DESCRIPTION:
URL:https://rc-zuerich-zoo.ch/de/agenda/show/193509
DTSTART;TZID=Europe/Zurich:20250404T190000
DTEND;TZID=Europe/Zurich:20250404T230000
LOCATION:Haus zum Rüden
CATEGORIES:Rotary
END:VEVENT
BEGIN:VTIMEZONE
TZID:Europe/Zurich
BEGIN:DAYLIGHT
DTSTART:20250404T190000
TZNAME:CEST
TZOFFSETTO:+0200
TZOFFSETFROM:+0200
END:DAYLIGHT
END:VTIMEZONE
END:VCALENDAR
