BEGIN:VCALENDAR
PRODID:-//eluceo/ical//2.0/EN
VERSION:2.0
CALSCALE:GREGORIAN
BEGIN:VEVENT
UID:a1416ebbc3fd968084bb5e62ba24aa1c
DTSTAMP:20260424T102946Z
SUMMARY:Zu Gast Regierungsrat Christian Marti\, Glarus
DESCRIPTION:Website: https://www.zoo.ch/de/restaurant-shop/restaurant-altes
 -klösterli\nSpeaker(s): Regierungsrat Christian Marti\, Glarus\, spricht 
 zu den entwicklungspolitischen Herausforderungen eines  Bergkantons
URL:https://rc-zuerich-zoo.ch/en/agenda/show/204842
DTSTART;TZID=Europe/Zurich:20251104T190000
DTEND;TZID=Europe/Zurich:20251104T190000
LOCATION:Restaurant Altes Klösterli + Online (hybrid)\, Klosterweg 36\, 80
 44 Zürich\, Schweiz
CATEGORIES:Rotary
END:VEVENT
BEGIN:VTIMEZONE
TZID:Europe/Zurich
BEGIN:STANDARD
DTSTART:20251104T190000
TZNAME:CET
TZOFFSETTO:+0100
TZOFFSETFROM:+0100
END:STANDARD
END:VTIMEZONE
END:VCALENDAR
