BEGIN:VCALENDAR
PRODID:-//eluceo/ical//2.0/EN
VERSION:2.0
CALSCALE:GREGORIAN
BEGIN:VEVENT
UID:0ed9827f4486727d450b1dbc4dcbb3ad
DTSTAMP:20260420T101814Z
SUMMARY:Zu Gast: Ulrich Eigler
DESCRIPTION:Website: https://www.zoo.ch/de/restaurant-shop/restaurant-altes
 -klösterli\nSpeaker(s): Ulrich Eigler spricht über Roms langen Weg zur H
 auptstadt Italiens.Natürlich kennen wir Rom als marmorstrahlende Hauptsta
 dt des Römischen Reiches. Allerdings geht diese im Verlauf des vierten bi
 s sechsten Jahrhunderts unter und verändert sich zu einer riesigen Landfl
 äche\, die von zu gross geratenen Mauern umsäumt wurde. Damit musste sic
 h auch der Papst\, das Haupt der Christenheit\, arrangieren. Erst\, als Ro
 m zur Hauptstadt Italiens wurde\, schwanden langsam die Spuren unfreiwilli
 ger Ländlichkeit. 
URL:https://rc-zuerich-zoo.ch/en/agenda/show/209585
DTSTART;TZID=Europe/Zurich:20260224T190000
DTEND;TZID=Europe/Zurich:20260224T210000
LOCATION:Restaurant Altes Klösterli + Online (hybrid)\, Klosterweg 36\, 80
 44 Zürich\, Schweiz
CATEGORIES:Rotary
END:VEVENT
BEGIN:VTIMEZONE
TZID:Europe/Zurich
BEGIN:STANDARD
DTSTART:20260224T190000
TZNAME:CET
TZOFFSETTO:+0100
TZOFFSETFROM:+0100
END:STANDARD
END:VTIMEZONE
END:VCALENDAR
