BEGIN:VCALENDAR
PRODID:-//eluceo/ical//2.0/EN
VERSION:2.0
CALSCALE:GREGORIAN
BEGIN:VEVENT
UID:45f5562eee3738d3ee04e88dd42d617a
DTSTAMP:20260420T102029Z
SUMMARY:Plauderdinner bzw. Reservedatum für Gartenbau-Anlass bei schlechte
 m Wetter 
DESCRIPTION:Meeting Beginn: 19.30 Uhr
URL:https://rc-zuerich-zoo.ch/en/agenda/show/23245
DTSTART;TZID=Europe/Zurich:20120612T193000
DTEND;TZID=Europe/Zurich:20120612T213000
LOCATION:Restaurant Altes Klösterli 
CATEGORIES:Rotary
END:VEVENT
BEGIN:VTIMEZONE
TZID:Europe/Zurich
BEGIN:DAYLIGHT
DTSTART:20120612T193000
TZNAME:CEST
TZOFFSETTO:+0200
TZOFFSETFROM:+0200
END:DAYLIGHT
END:VTIMEZONE
END:VCALENDAR
