BEGIN:VCALENDAR
PRODID:-//eluceo/ical//2.0/EN
VERSION:2.0
CALSCALE:GREGORIAN
BEGIN:VEVENT
UID:ccbb2f5e64c92aea2a46feabb8874ea4
DTSTAMP:20260422T092158Z
SUMMARY:Plauderfrühstück
DESCRIPTION:Zeit: 07:00
URL:https://rc-zuerich-zoo.ch/en/agenda/show/25656
DTSTART;TZID=Europe/Zurich:20121127T193000
DTEND;TZID=Europe/Zurich:20121127T213000
LOCATION:Hotel Widder
CATEGORIES:Rotary
END:VEVENT
BEGIN:VTIMEZONE
TZID:Europe/Zurich
BEGIN:STANDARD
DTSTART:20121127T193000
TZNAME:CET
TZOFFSETTO:+0100
TZOFFSETFROM:+0100
END:STANDARD
END:VTIMEZONE
END:VCALENDAR
