BEGIN:VCALENDAR
PRODID:-//eluceo/ical//2.0/EN
VERSION:2.0
CALSCALE:GREGORIAN
BEGIN:VEVENT
UID:dd45ec1a527b60047198e858c64de184
DTSTAMP:20260420T101514Z
SUMMARY:ROTARY INSIDE
DESCRIPTION:Speaker(s): Robert Riener
URL:https://rc-zuerich-zoo.ch/en/agenda/show/30217
DTSTART;TZID=Europe/Zurich:20130402T193000
DTEND;TZID=Europe/Zurich:20130402T213000
LOCATION:Restaurant Altes Klösterli 
CATEGORIES:Rotary
END:VEVENT
BEGIN:VTIMEZONE
TZID:Europe/Zurich
BEGIN:DAYLIGHT
DTSTART:20130402T193000
TZNAME:CEST
TZOFFSETTO:+0200
TZOFFSETFROM:+0200
END:DAYLIGHT
END:VTIMEZONE
END:VCALENDAR
