BEGIN:VCALENDAR
PRODID:-//eluceo/ical//2.0/EN
VERSION:2.0
CALSCALE:GREGORIAN
BEGIN:VEVENT
UID:983a999407feaed7a60af091c40a31dd
DTSTAMP:20260425T115156Z
SUMMARY:Wir gehen Kegeln
DESCRIPTION:Sitio web: https://schuetzenruh.ch/\nOrador(es): Wir treffen un
 s zu einem gemütlichen Abendessen und werden anschliessend auf den beiden
  Kegelbahnen unsere sportlichen Vorsätze des Jahres in die Tat umsetzen.
  
URL:https://rc-zuerich-zoo.ch/es/agenda/show/209012
DTSTART;TZID=Europe/Zurich:20260127T190000
DTEND;TZID=Europe/Zurich:20260127T210000
LOCATION:Restaurant Schützenruh\, Uetlibergstrasse 300\, 8045 Zürich
CATEGORIES:Rotary
END:VEVENT
BEGIN:VTIMEZONE
TZID:Europe/Zurich
BEGIN:STANDARD
DTSTART:20260127T190000
TZNAME:CET
TZOFFSETTO:+0100
TZOFFSETFROM:+0100
END:STANDARD
END:VTIMEZONE
END:VCALENDAR
