BEGIN:VCALENDAR
PRODID:-//eluceo/ical//2.0/EN
VERSION:2.0
CALSCALE:GREGORIAN
BEGIN:VEVENT
UID:9c11fb509f227f4010e5096fd564f9b0
DTSTAMP:20260425T104500Z
SUMMARY:Besuch Orgelbau Kuhn Männedorf
DESCRIPTION:Site internet: https://www.orgelbau.ch
URL:https://rc-zuerich-zoo.ch/fr/agenda/show/200454
DTSTART;TZID=Europe/Zurich:20250923T180000
DTEND;TZID=Europe/Zurich:20250923T213000
LOCATION:Seestrasse 141\, 8708 Männedorf
CATEGORIES:Rotary
END:VEVENT
BEGIN:VTIMEZONE
TZID:Europe/Zurich
BEGIN:DAYLIGHT
DTSTART:20250923T180000
TZNAME:CEST
TZOFFSETTO:+0200
TZOFFSETFROM:+0200
END:DAYLIGHT
END:VTIMEZONE
END:VCALENDAR
