BEGIN:VCALENDAR
PRODID:-//eluceo/ical//2.0/EN
VERSION:2.0
CALSCALE:GREGORIAN
BEGIN:VEVENT
UID:7ff3520f68d1300d1d95c1bdc9aca5c0
DTSTAMP:20260421T152445Z
SUMMARY:JobTV
DESCRIPTION:Sito web: https://www.zoo.ch/de/restaurant-shop/restaurant-alte
 s-klösterli\nRelatore/i: \nKurt Reinhard\, Gründer von JobTV (heute Focu
 sMedia)\, Regisseur\, Video-\n und Storytelling-Coach\, Langjähriger Mita
 rbeiter der Zürcher Hochschule der Künste ZHdK und des Schweizer Fernseh
 ens SRF\n\n
URL:https://rc-zuerich-zoo.ch/it/agenda/show/184795
DTSTART;TZID=Europe/Zurich:20241119T193000
DTEND;TZID=Europe/Zurich:20241119T213000
LOCATION:Restaurant Altes Klösterli + Online falls mindestens 24 h vorher 
 gewünscht
CATEGORIES:Rotary
END:VEVENT
BEGIN:VTIMEZONE
TZID:Europe/Zurich
BEGIN:STANDARD
DTSTART:20241119T193000
TZNAME:CET
TZOFFSETTO:+0100
TZOFFSETFROM:+0100
END:STANDARD
END:VTIMEZONE
END:VCALENDAR
