BEGIN:VCALENDAR
PRODID:-//eluceo/ical//2.0/EN
VERSION:2.0
CALSCALE:GREGORIAN
BEGIN:VEVENT
UID:26ffd6a2655e88c3b2bd3d873a1a5349
DTSTAMP:20260424T122252Z
SUMMARY:Tourismusprojekte – Ist Erfolg planbar?
DESCRIPTION:Sito web: https://www.zoo.ch/de/restaurant-shop/restaurant-alte
 s-klösterli\nRelatore/i: Benedict Fornaro\, \n\nPortfolio Operations Dir
 ector eines Family Offices mit Schwerpunkt Tourismus präsentiert uns die 
 Geheimnisse erfolgreicher Tourismusprojekte.
URL:https://rc-zuerich-zoo.ch/it/agenda/show/201362
DTSTART;TZID=Europe/Zurich:20250909T190000
DTEND;TZID=Europe/Zurich:20250909T213000
LOCATION:Restaurant Altes Klösterli + Online (hybrid)\, Klosterweg 36\, 80
 44 Zürich\, Schweiz
CATEGORIES:Rotary
END:VEVENT
BEGIN:VTIMEZONE
TZID:Europe/Zurich
BEGIN:DAYLIGHT
DTSTART:20250909T190000
TZNAME:CEST
TZOFFSETTO:+0200
TZOFFSETFROM:+0200
END:DAYLIGHT
END:VTIMEZONE
END:VCALENDAR
