BEGIN:VCALENDAR
PRODID:-//eluceo/ical//2.0/EN
VERSION:2.0
CALSCALE:GREGORIAN
BEGIN:VEVENT
UID:b1c1a603afb97ec459d7270650b74c4b
DTSTAMP:20260424T122334Z
SUMMARY:WALKING FOR SHORT LIVES Wir laufen für das «Flamingo Kinderhospiz
 » in Fällanden
DESCRIPTION:Sito web: https://www.zoo.ch/de/restaurant-shop/restaurant-alte
 s-klösterli\nRelatore/i: Professor Dr. Rainer Züst
URL:https://rc-zuerich-zoo.ch/it/agenda/show/201377
DTSTART;TZID=Europe/Zurich:20250916T190000
DTEND;TZID=Europe/Zurich:20250916T213000
LOCATION:Restaurant Altes Klösterli + Online (hybrid)\, Klosterweg 36\, 80
 44 Zürich\, Schweiz
CATEGORIES:Rotary
END:VEVENT
BEGIN:VTIMEZONE
TZID:Europe/Zurich
BEGIN:DAYLIGHT
DTSTART:20250916T190000
TZNAME:CEST
TZOFFSETTO:+0200
TZOFFSETFROM:+0200
END:DAYLIGHT
END:VTIMEZONE
END:VCALENDAR
