BEGIN:VCALENDAR
PRODID:-//eluceo/ical//2.0/EN
VERSION:2.0
CALSCALE:GREGORIAN
BEGIN:VEVENT
UID:0cf7644b151204682dc9a798ad1aefeb
DTSTAMP:20260421T093855Z
SUMMARY:Wochenende in Luxemburg
DESCRIPTION:Relatore/i: Wir besuchen mit unseren Partnerinnen und Partnern 
 unsere rotarischen Freundinnen und Freunde in Luxemburg
URL:https://rc-zuerich-zoo.ch/it/agenda/show/205773
DTSTART;TZID=Europe/Zurich:20260313T150000
DTEND;TZID=Europe/Zurich:20260315T200000
LOCATION:Luxemburg
CATEGORIES:Rotary
END:VEVENT
BEGIN:VTIMEZONE
TZID:Europe/Zurich
BEGIN:STANDARD
DTSTART:20260313T150000
TZNAME:CET
TZOFFSETTO:+0100
TZOFFSETFROM:+0100
END:STANDARD
END:VTIMEZONE
END:VCALENDAR
