BEGIN:VCALENDAR
PRODID:-//eluceo/ical//2.0/EN
VERSION:2.0
CALSCALE:GREGORIAN
BEGIN:VEVENT
UID:e7eb8a5f3da08d2780985f4b9277d83f
DTSTAMP:20260425T212213Z
SUMMARY:Generalversammlung
DESCRIPTION:Website: https://www.zoo.ch/de/restaurant-shop/restaurant-altes
 -klösterli
URL:https://rc-zuerich-zoo.ch/nl/agenda/show/192950
DTSTART;TZID=Europe/Zurich:20250624T193000
DTEND;TZID=Europe/Zurich:20250624T213000
LOCATION:Restaurant Altes Klösterli (nur Präsenz)\, Klosterweg 36\, 8044 
 Zürich\, Schweiz
CATEGORIES:Rotary
END:VEVENT
BEGIN:VTIMEZONE
TZID:Europe/Zurich
BEGIN:DAYLIGHT
DTSTART:20250624T193000
TZNAME:CEST
TZOFFSETTO:+0200
TZOFFSETFROM:+0200
END:DAYLIGHT
END:VTIMEZONE
END:VCALENDAR
