BEGIN:VCALENDAR
PRODID:-//eluceo/ical//2.0/EN
VERSION:2.0
CALSCALE:GREGORIAN
BEGIN:VEVENT
UID:3f4eb68733393da6821455d00c96bdd2
DTSTAMP:20260425T225939Z
SUMMARY:Hands-on Einsatz Bruggiriet\, Seebachtal
DESCRIPTION:Sprekers: 
URL:https://rc-zuerich-zoo.ch/nl/agenda/show/193701
DTSTART;TZID=Europe/Zurich:20250628T100000
DTEND;TZID=Europe/Zurich:20250628T170000
LOCATION:Bruggiriet\, Uerschhausen TG
CATEGORIES:Rotary
END:VEVENT
BEGIN:VTIMEZONE
TZID:Europe/Zurich
BEGIN:DAYLIGHT
DTSTART:20250628T100000
TZNAME:CEST
TZOFFSETTO:+0200
TZOFFSETFROM:+0200
END:DAYLIGHT
END:VTIMEZONE
END:VCALENDAR
