BEGIN:VCALENDAR
PRODID:-//eluceo/ical//2.0/EN
VERSION:2.0
CALSCALE:GREGORIAN
BEGIN:VEVENT
UID:ba355a6cfcef1901400ceae4b7415e65
DTSTAMP:20260425T182239Z
SUMMARY:Führung zu "Hallyu!" im Rietberg
DESCRIPTION:Website: https://www.zoo.ch/de/restaurant-shop/restaurant-altes
 -klösterli\nSprekers: „Hallyu!“ The Korean Wave\, anschliessend Essen
  im Belvoir Park
URL:https://rc-zuerich-zoo.ch/nl/agenda/show/194956
DTSTART;TZID=Europe/Zurich:20250527T190000
DTEND;TZID=Europe/Zurich:20250527T213000
LOCATION:Museum Rietberg\, Gablerstrasse 15\, 8002 Zürich
CATEGORIES:Rotary
END:VEVENT
BEGIN:VTIMEZONE
TZID:Europe/Zurich
BEGIN:DAYLIGHT
DTSTART:20250527T190000
TZNAME:CEST
TZOFFSETTO:+0200
TZOFFSETFROM:+0200
END:DAYLIGHT
END:VTIMEZONE
END:VCALENDAR
