BEGIN:VCALENDAR
PRODID:-//eluceo/ical//2.0/EN
VERSION:2.0
CALSCALE:GREGORIAN
BEGIN:VEVENT
UID:d64227dea9d8a6ad9ccfd7c56ba4ed68
DTSTAMP:20260421T213651Z
SUMMARY:Gemeindienst
DESCRIPTION:Webbplats: https://www.zoo.ch/de/restaurant-shop/restaurant-alt
 es-klösterli\nTalare: 
URL:https://rc-zuerich-zoo.ch/sv/agenda/show/166367
DTSTART;TZID=Europe/Zurich:20231031T193000
DTEND;TZID=Europe/Zurich:20231031T213000
LOCATION:Restaurant Altes Klösterli (nur Präsenz)\, Klosterweg 36\, 8044 
 Zürich\, Schweiz
CATEGORIES:Rotary
END:VEVENT
BEGIN:VTIMEZONE
TZID:Europe/Zurich
BEGIN:STANDARD
DTSTART:20231031T193000
TZNAME:CET
TZOFFSETTO:+0100
TZOFFSETFROM:+0100
END:STANDARD
END:VTIMEZONE
END:VCALENDAR
