BEGIN:VCALENDAR
PRODID:-//eluceo/ical//2.0/EN
VERSION:2.0
CALSCALE:GREGORIAN
BEGIN:VEVENT
UID:8c8a9139300d749275627456cc062c05
DTSTAMP:20260423T104413Z
SUMMARY:Investmentrisiken an Finanzmärkten: Ein paar Fallen und wie man si
 e umgehen kann
DESCRIPTION:Webbplats: https://www.zoo.ch/de/restaurant-shop/restaurant-alt
 es-klösterli\nTalare: 
URL:https://rc-zuerich-zoo.ch/sv/agenda/show/166378
DTSTART;TZID=Europe/Zurich:20231017T193000
DTEND;TZID=Europe/Zurich:20231017T213000
LOCATION:Restaurant Altes Klösterli (nur Präsenz)\, Klosterweg 36\, 8044 
 Zürich\, Schweiz
CATEGORIES:Rotary
END:VEVENT
BEGIN:VTIMEZONE
TZID:Europe/Zurich
BEGIN:DAYLIGHT
DTSTART:20231017T193000
TZNAME:CEST
TZOFFSETTO:+0200
TZOFFSETFROM:+0200
END:DAYLIGHT
END:VTIMEZONE
END:VCALENDAR
