BEGIN:VCALENDAR
PRODID:-//eluceo/ical//2.0/EN
VERSION:2.0
CALSCALE:GREGORIAN
BEGIN:VEVENT
UID:bb0ec356fa04ac94377bfb04525ed073
DTSTAMP:20260420T102525Z
SUMMARY:Von der Investor Relations zum Management von Sondersituationen (Kl
 assifikationsreferat)
DESCRIPTION:Webbplats: https://www.zoo.ch/de/restaurant-shop/restaurant-alt
 es-klösterli\nTalare: 
URL:https://rc-zuerich-zoo.ch/sv/agenda/show/166726
DTSTART;TZID=Europe/Zurich:20230919T193000
DTEND;TZID=Europe/Zurich:20230919T213000
LOCATION:Restaurant Altes Klösterli + Online (hybrid)\, Klosterweg 36\, 80
 44 Zürich\, Schweiz
CATEGORIES:Rotary
END:VEVENT
BEGIN:VTIMEZONE
TZID:Europe/Zurich
BEGIN:DAYLIGHT
DTSTART:20230919T193000
TZNAME:CEST
TZOFFSETTO:+0200
TZOFFSETFROM:+0200
END:DAYLIGHT
END:VTIMEZONE
END:VCALENDAR
